BEGIN:VCALENDAR
VERSION:2.0
PRODID:icalendar-ruby
CALSCALE:GREGORIAN
METHOD:PUBLISH
BEGIN:VEVENT
DTSTAMP:20260421T132544Z
UID:12-1172991@americanreformed.tithelysetup5.com
DTSTART:20261020T140000Z
DTEND:20261020T150000Z
CLASS:PUBLIC
CREATED:20260421T071825
DESCRIPTION:
LAST-MODIFIED:20260421T071825
LOCATION:Church Library
SUMMARY:Partners in Prayer
URL;VALUE=URI:https://arcworthington.org/events/partners-in-prayer/2026-10-
 20
ATTACH;FILENAME=F7s2E.jpg;FMTTYPE=image/jpeg:https://dq5pwpg1q8ru0.cloudfro
 nt.net/2025/06/12/16/45/28/bf64feed-a4e9-4fb0-b86b-0b9ee56f9ad8/F7s2E.jpg
END:VEVENT
END:VCALENDAR
